BEGIN:VCALENDAR
VERSION:2.0
PRODID:-//SRIP Tovarne Prihodnosti - ECPv6.6.0.1//NONSGML v1.0//EN
CALSCALE:GREGORIAN
METHOD:PUBLISH
X-ORIGINAL-URL:https://ctop.ijs.si
X-WR-CALDESC:Events for SRIP Tovarne Prihodnosti
REFRESH-INTERVAL;VALUE=DURATION:PT1H
X-Robots-Tag:noindex
X-PUBLISHED-TTL:PT1H
BEGIN:VTIMEZONE
TZID:Europe/Ljubljana
BEGIN:DAYLIGHT
TZOFFSETFROM:+0100
TZOFFSETTO:+0200
TZNAME:CEST
DTSTART:20240331T010000
END:DAYLIGHT
BEGIN:STANDARD
TZOFFSETFROM:+0200
TZOFFSETTO:+0100
TZNAME:CET
DTSTART:20241027T010000
END:STANDARD
END:VTIMEZONE
BEGIN:VEVENT
DTSTART;VALUE=DATE:20240409
DTEND;VALUE=DATE:20240410
DTSTAMP:20260420T080632
CREATED:20240319T144031Z
LAST-MODIFIED:20240319T144031Z
UID:14329-1712620800-1712707199@ctop.ijs.si
SUMMARY:Predstavitev strokovnega znanja/storitev na področju 3D tiska na spletni delavnici pobude Vanguard
DESCRIPTION:Pobuda Vanguard v okviru pilotnega projekta 3DP Pilot 9. aprila organizira spletno delavnico poslovnih inovatorjev »3DP Business Innovators Meeting (3DP BIM)«. Na njej bodo mala in srednja podjetja\, velika podjetja\, raziskovalni centri\, univerze lahko predstavili svoje strokovno znanje/storitve na področju napredne proizvodnje. Dobrodošle so predstavitve (okrog 8 minut) organizacij\, ki so dejavne v vrednostni verigi 3D tiska ali so pripravljene prevzeti rešitve 3D tiska. Slovenijo v pobudi Vanugard zastopa SBRA\, kjer člani lahko dobijo dodatne informacije o možnosti za predstavitev na spletni delavnici. Prijave za predstavitve je treba oddati do 25. marca. \nDelavnica je priložnost za vse\, ki iščejo določeno strokovno znanje/kompetence\, določene vrste partnerjev (končni uporabniki\, ponudniki tehnologije…)\, želijo izvajati posebne dejavnosti v okviru mreže pobude Vanguard (recimo izmenjava podatkov)\, imajo poseben projekt in ciljno opredeljeno možnost financiranja zanj\, vendar še vedno iščejo partnerje. \nNa delavnici bo na posebni seji svoje potrebe predstavil vodilni svetovni proizvajalec razsvetljave Signify\, ki že lahko množično proizvaja razsvetljavo s 3D tiskanjem. Za ta namen išče partnerje za skupni razvoj in inovacije. Glavni material\, ki ga uporablja\, je polikarbonat. Za svojo proizvodnjo želi najti druge materiale ali materiale z večjo vsebnostjo recikliranih snovi. Množično proizvodnjo bi rad razširil z 800 na 1200 mm\, za kar išče inovativne rešitve. \nPomembna tema na delavnici bo drugi razpis VInnovate\, ki je nov mehanizem financiranja pobude Vanguard. Objavljen bo 8. maja in se bo odprt do 30. oktobra. Zagotovil bo možnosti za nepovratna sredstva za medregionalne predstavitvene projekte. Predstavitev na spletni delavnici 9. aprila je zlasti za mala in srednja podjetja lahko prvi korak k pripravi ustreznega predloga za ta razpis. Slovenija je med regijami\, ki razmišljajo\, da se bodo prijavile na ta razpis. \nOrganizacije lahko za delavnico pripravijo dve predstavitvi. Eno za sejo\, ki bo namenjena Signify in eno za druge seje. Organizacije\, ki so se že predstavile na eni od prejšnjih delavnic poslovnih inovatorjev v okviru pobude Vanguard\, se lahko 9. aprila predstavijo še enkrat. V tem primeru se morajo osredotočiti na druga strokovna znanja/potrebe.
URL:https://ctop.ijs.si/dogodek/predstavitev-strokovnega-znanja-storitev-na-podrocju-3d-tiska-na-spletni-delavnici-pobude-vanguard/
CATEGORIES:Predstavitveni dogodek
ATTACH;FMTTYPE=image/jpeg:https://ctop.ijs.si/wp-content/uploads/2024/03/3DP3-min_01-scaled.jpg
END:VEVENT
BEGIN:VEVENT
DTSTART;TZID=Europe/Ljubljana:20240409T093000
DTEND;TZID=Europe/Ljubljana:20240409T130000
DTSTAMP:20260420T080632
CREATED:20240402T131319Z
LAST-MODIFIED:20240403T194257Z
UID:14383-1712655000-1712667600@ctop.ijs.si
SUMMARY:Javni posvet o koheziji - Razvoj\, znanost in inovacije za konkurenčnejšo in pametnejšo Evropo
DESCRIPTION:Na Ministrstvu za kohezijo in regionalni razvoj pripravljamo dogodek\, namenjen razpravi o možnostih in priložnostih\, ki jih nudi evropska kohezijska politika pri reševanju izzivov in potreb na področjih razvoja\, znanosti in inovacij. \nEvropska unija preko evropske kohezijske politike in drugih mehanizmov nudi podporo in finančne vire za reševanje razvojnih razlik ter izvajanje številnih ukrepov z namenom spodbujanja inovativne in pametne gospodarske preobrazbe ter regionalne povezljivosti. \nNacionalne strateške razvojne prioritete in niše smo v Sloveniji opredelili s Slovensko strategijo pametne specializacij. Ta je podlaga za izvajanje evropske kohezijske politike tudi v programskem obdobju 2021-2027\, predvsem v okviru cilja »Pametna Evropa«\, kjer opredeljujemo ukrepe na področju razvoja in izboljšanja raziskovalnih in inovacijskih zmogljivosti\, uvajanja naprednih tehnologij\, izkoriščanja prednosti digitalizacije\, krepitve rasti in konkurenčnosti MSP ter razvoja znanj in spretnosti\, industrijskega prehoda in podjetništva. \nŽelja je\, da evropsko kohezijsko politiko približamo ljudem\, predvsem tudi tistim\, ki neposredno izvajajo razvojne projekte\, ter da usmerjamo evropska sredstva v ukrepe\, ki bodo Sloveniji prinesli dolgoročne razvojne in ekonomske koristi. \nOsrednji del dogodka bo namenjen predstavitvi evropske kohezijske politike in panelu oziroma pogovoru državnega sekretarja pristojnega za kohezijsko politiko z državnim sekretarjem na ministrstvu za visoko šolstvo\, znanost in inovacije\, državnim sekretarjem na ministrstvu za gospodarstvo\, turizem in šport ter s predstavniki organizacij in podjetji\, ki delujejo na področju razvoja in znanosti. \nNa dogodku se bomo predstavili tudi SRIP ToP na svoji stojnici. Vam\, našim članom\, pa ponujamo možnost soudeležbe. In sicer tako\, da nam svoje manjše promocijske materiale dostavite in jih bomo predstavili obiskovalcem na stojnici (letaki\, brošure\, vizitke\, ipd.)\, torej manjši promocijski material\, pingvini/roll-upi žal ne zaradi prostorske omejenosti.
URL:https://ctop.ijs.si/dogodek/javni-posvet-o-koheziji-razvoj-znanost-in-inovacije-za-konkurencnejso-in-pametnejso-evropo/
CATEGORIES:Predstavitveni dogodek
ATTACH;FMTTYPE=image/png:https://ctop.ijs.si/wp-content/uploads/2024/04/Screenshot-2024-02-23-at-09.20.23-1080x6751-1.png
END:VEVENT
END:VCALENDAR