BEGIN:VCALENDAR
VERSION:2.0
PRODID:-//SRIP Tovarne Prihodnosti - ECPv6.6.0.1//NONSGML v1.0//EN
CALSCALE:GREGORIAN
METHOD:PUBLISH
X-WR-CALNAME:SRIP Tovarne Prihodnosti
X-ORIGINAL-URL:https://ctop.ijs.si
X-WR-CALDESC:Events for SRIP Tovarne Prihodnosti
REFRESH-INTERVAL;VALUE=DURATION:PT1H
X-Robots-Tag:noindex
X-PUBLISHED-TTL:PT1H
BEGIN:VTIMEZONE
TZID:Europe/Ljubljana
BEGIN:DAYLIGHT
TZOFFSETFROM:+0100
TZOFFSETTO:+0200
TZNAME:CEST
DTSTART:20240331T010000
END:DAYLIGHT
BEGIN:STANDARD
TZOFFSETFROM:+0200
TZOFFSETTO:+0100
TZNAME:CET
DTSTART:20241027T010000
END:STANDARD
END:VTIMEZONE
BEGIN:VEVENT
DTSTART;TZID=Europe/Ljubljana:20240522T093000
DTEND;TZID=Europe/Ljubljana:20240522T150000
DTSTAMP:20260420T063735
CREATED:20240416T072506Z
LAST-MODIFIED:20240416T072714Z
UID:14441-1716370200-1716390000@ctop.ijs.si
SUMMARY:Inovacije z uporabo plazemskih tehnologij v industriji\, medicini in kmetijstvu
DESCRIPTION:Uporaba plazemskih tehnologij v industriji\, medicini in kmetijstvu je vse bolj razširjena\, saj predstavlja okolju prijazen način obdelave materialov za povečanje adhezije\, doseganje sprememb kemijske sestave površine ali za povečanja specifične površine (nanostrukturiranje) kot tudi način za dekontaminacijo površin in izboljšano rast nekaterih poljščin. Namen dogodka je prikazati različne uporabne vidike plazemskih tehnologij ter različne vrste plazemskih sistemov. \nPredstavitev plazemskih tehnologij bo zelo obsežna in je lahko zanimiva za različne vrste podjetji in aplikacij od orodjarske industrije\, do katalize\, obdelave površin za boljšo adhezijo\, pasivacijo površin\, itd. \nVljudno vabljeni na izmenjavo idej in bodočih uspešnih sodelovanj! \nZaradi omejenega števila mest prosimo za predhodno REZERVACIJO na: ita.junkar@ijs.si \nDodatne informacije in program dogodka>>
URL:https://ctop.ijs.si/dogodek/inovacije-z-uporabo-plazemskih-tehnologij-v-industriji-medicini-in-kmetijstvu/
CATEGORIES:Predstavitveni dogodek
ATTACH;FMTTYPE=image/jpeg:https://ctop.ijs.si/wp-content/uploads/2019/10/fotonika1.jpg
END:VEVENT
END:VCALENDAR