BEGIN:VCALENDAR
VERSION:2.0
PRODID:-//SRIP Tovarne Prihodnosti - ECPv6.6.0.1//NONSGML v1.0//EN
CALSCALE:GREGORIAN
METHOD:PUBLISH
X-ORIGINAL-URL:https://ctop.ijs.si
X-WR-CALDESC:Events for SRIP Tovarne Prihodnosti
REFRESH-INTERVAL;VALUE=DURATION:PT1H
X-Robots-Tag:noindex
X-PUBLISHED-TTL:PT1H
BEGIN:VTIMEZONE
TZID:Europe/Ljubljana
BEGIN:DAYLIGHT
TZOFFSETFROM:+0100
TZOFFSETTO:+0200
TZNAME:CEST
DTSTART:20240331T010000
END:DAYLIGHT
BEGIN:STANDARD
TZOFFSETFROM:+0200
TZOFFSETTO:+0100
TZNAME:CET
DTSTART:20241027T010000
END:STANDARD
END:VTIMEZONE
BEGIN:VEVENT
DTSTART;TZID=Europe/Ljubljana:20240605T090000
DTEND;TZID=Europe/Ljubljana:20240605T153000
DTSTAMP:20260420T050430
CREATED:20240528T063324Z
LAST-MODIFIED:20240528T063324Z
UID:14574-1717578000-1717601400@ctop.ijs.si
SUMMARY:Strateški posvet Tehnologija vodenja SCCT'24
DESCRIPTION:KC STV organizira Strateški posvet Tehnologija vodenja SCCT’24\, ki bo potekal v sredo dne 5. junija 2024 \, s pričetkom ob 9. uri v prostorih IJS\, Teslova ulica 30\, Ljubljana. \nKompetenčni center za napredne tehnologije vodenja (KC STV) kot naslednik Tehnološke mreže Tehnologija vodenja procesov posodablja svojo strateško raziskovalno  in inovacijsko agendo (SRIA). Dogodek bo podal pregled prednostnih področij tehnologij vodenja v okviru Trajnostne slovenske strategije pametne specializacije (S5) in usmeritev razvoja na področju napredne tehnologije vodenja. \nPoudarek bo na njihovih strateških prednostnih področjih: \n\numetna inteligenca za nadzor in optimizacijo\,\ndigitalni dvojčki v tehničnih procesih\npodročje energetike v kompleksnih sistemih\,\nprognostika in upravljanje zdravja strojev in procesov\,\nindustrijski internet stvari\,\nintegrirani sistemi MES in\navtonomni mobilni sistemi.\n\nZa vsako od prednostnih področij tehnologije vodenja bo poudarjen splošni pregled področja. \nMednarodni partnerji iz EU združenj bodo predstavili svoje nove ali posodobljene agende raziskav in inovacij\, ki so povezane z razpisi Horizon Europe(HE) v prihodnjih letih in podprte tudi z našim SRIA. Prvič bomo gostili tudi predstavnika organizacije UNIDO\, ki bo predstavil informacije o ciljih njihove globalne pobude AI in Manufacturing (AIM). \nFokus internacionalizacije podjetij bodo osvetlili predstavniki slovenske gospodarske diplomacije. \nPartnerji iz SRIPov\, s katerimi sodelujejo\, bodo predstavili področja svojih domen\, kjer želijo vzpostaviti bilateralno sodelovanje. \nDogodek organizira grozd Napredne tehnologije vodenja. Grozd vodi zavod KC STV\, ki je eden od upravičencev SRIP Tovarne prihodnosti. \nUdeležba na dogodku je brezplačna\, NUJNA pa je predhodna registracija. \nDodatne informacije in prijava>>
URL:https://ctop.ijs.si/dogodek/strateski-posvet-tehnologija-vodenja-scct24/
CATEGORIES:B2B dogodek,Predstavitveni dogodek,Sestanek
ATTACH;FMTTYPE=image/jpeg:https://ctop.ijs.si/wp-content/uploads/2024/05/engineering-technology-industry-smart-factory-concept-icon-graphic-showing-automation-system-using-robots-automated-200761610-1024x4961-1.jpg
END:VEVENT
END:VCALENDAR