BEGIN:VCALENDAR
VERSION:2.0
PRODID:-//SRIP Tovarne Prihodnosti - ECPv6.6.0.1//NONSGML v1.0//EN
CALSCALE:GREGORIAN
METHOD:PUBLISH
X-WR-CALNAME:SRIP Tovarne Prihodnosti
X-ORIGINAL-URL:https://ctop.ijs.si
X-WR-CALDESC:Events for SRIP Tovarne Prihodnosti
REFRESH-INTERVAL;VALUE=DURATION:PT1H
X-Robots-Tag:noindex
X-PUBLISHED-TTL:PT1H
BEGIN:VTIMEZONE
TZID:Europe/Ljubljana
BEGIN:DAYLIGHT
TZOFFSETFROM:+0100
TZOFFSETTO:+0200
TZNAME:CEST
DTSTART:20250330T010000
END:DAYLIGHT
BEGIN:STANDARD
TZOFFSETFROM:+0200
TZOFFSETTO:+0100
TZNAME:CET
DTSTART:20251026T010000
END:STANDARD
END:VTIMEZONE
BEGIN:VEVENT
DTSTART;TZID=Europe/Ljubljana:20250114T093000
DTEND;TZID=Europe/Ljubljana:20250114T133000
DTSTAMP:20260419T181009
CREATED:20241224T165447Z
LAST-MODIFIED:20241224T165447Z
UID:15504-1736847000-1736861400@ctop.ijs.si
SUMMARY:Slovenski Industrijski Forum 2025
DESCRIPTION:Slovenski industrijski forum se letos predstavlja v novi podobi\, da nadaljuje tradicijo industrijske konference\, organizirane v sodelovanju Ministrstva za gospodarstvo\, turizem in šport in Gospodarske zbornice Slovenije. \nLetošnjega v celoti posvečajo Razvoju strateških tehnologij: Priložnosti za slovensko gospodarstvo.\n \nSlovenija se pospešeno pripravlja\, da gospodarstvu ponudi spodbude za razvoj in proizvodnjo strateških tehnologij\, kot jih opredeljuje Platforma strateških tehnologij za Evropo (STEP). \nMinistrstvo za gospodarstvo\, turizem in šport v sodelovanju s Slovenskim podjetniškim skladom in z drugimi ministrstvi načrtuje močan javni razpis za sofinanciranje projektov za razvoj in proizvodnjo strateških tehnologij\, prednostno financiranje pa zagotavlja tudi EU. \nPrijava na dogodek je možna do 10. januarja 2025\, oz. do zapolnitve mest. \nDodatne informacije in prijava>>
URL:https://ctop.ijs.si/dogodek/slovenski-industrijski-forum-2025/
CATEGORIES:Predstavitveni dogodek
ATTACH;FMTTYPE=image/jpeg:https://ctop.ijs.si/wp-content/uploads/2024/12/glavamail1.jpg
END:VEVENT
END:VCALENDAR