BEGIN:VCALENDAR
VERSION:2.0
PRODID:-//SRIP Tovarne Prihodnosti - ECPv6.6.0.1//NONSGML v1.0//EN
CALSCALE:GREGORIAN
METHOD:PUBLISH
X-WR-CALNAME:SRIP Tovarne Prihodnosti
X-ORIGINAL-URL:https://ctop.ijs.si
X-WR-CALDESC:Events for SRIP Tovarne Prihodnosti
REFRESH-INTERVAL;VALUE=DURATION:PT1H
X-Robots-Tag:noindex
X-PUBLISHED-TTL:PT1H
BEGIN:VTIMEZONE
TZID:Europe/Ljubljana
BEGIN:DAYLIGHT
TZOFFSETFROM:+0100
TZOFFSETTO:+0200
TZNAME:CEST
DTSTART:20250330T010000
END:DAYLIGHT
BEGIN:STANDARD
TZOFFSETFROM:+0200
TZOFFSETTO:+0100
TZNAME:CET
DTSTART:20251026T010000
END:STANDARD
END:VTIMEZONE
BEGIN:VEVENT
DTSTART;VALUE=DATE:20250128
DTEND;VALUE=DATE:20250129
DTSTAMP:20260419T165344
CREATED:20241224T175214Z
LAST-MODIFIED:20241224T175214Z
UID:15508-1738022400-1738108799@ctop.ijs.si
SUMMARY:Slovenski startup forum 2025: Kako hitro in pametno spremeniti Slovenijo v enega izmed najboljših startup ekosistemov v Evropi?
DESCRIPTION:Dogodek bo osrednja platforma za odprto razpravo o ambicioznih ciljih Slovenske startup strategije do leta 2030 ter iskanje rešitev za preboj Slovenije med najboljše startup ekosisteme v Evropi. \nStrategija stremi k podvojitvi števila ustanovljenih startupov na 476 na milijon prebivalcev in desetkratnemu povečanju investicij tveganega kapitala na 410 evrov na prebivalca. Prav tako predvideva rast ključnih kazalnikov\, kot so zaposlovanje\, prihodki in dodana vrednost startup podjetij ter hitro napredovanje Slovenije na lestvici Startup Nations Standards. \nProgram foruma: Imamo voljo? Imamo zglede? Hočemo spremembe? \nAli smo pripravljeni na kakovostni preskok in preboj na višjo raven? Ali se zavedamo\, kako pomembna postajajo startup podjetja za rast produktivnosti\, za razvoj novih tehnologij in celovito gospodarsko preobrazbo\, za ustvarjanje delovnih mest z visoko dodano vrednostjo\, povečanje proračunskih prilivov in oblikovanje več priložnosti v Sloveniji? Slovenska startup strategija s 5 strateškimi iniciativami kaže pot\, da se Slovenija postavi na zemljevid inovativnih in naprednih držav. \nProgram foruma se bo osredotočil na ključna vprašanja razvoja startup okolja v Sloveniji s posebnim poudarkom na petih strateških pobudah Slovenske startup strategije: izboljšanju podpornega okolja\, privabljanju globalnih talentov\, razvoju trga tveganega kapitala\, spodbujanju opcijskega nagrajevanja zaposlenih in uvedbi vitke delniške družbe.
URL:https://ctop.ijs.si/dogodek/slovenski-startup-forum-2025-kako-hitro-in-pametno-spremeniti-slovenijo-v-enega-izmed-najboljsih-startup-ekosistemov-v-evropi/
CATEGORIES:Predstavitveni dogodek
ATTACH;FMTTYPE=image/jpeg:https://ctop.ijs.si/wp-content/uploads/2024/12/Bled_2025_mediumW1.jpg
END:VEVENT
END:VCALENDAR