BEGIN:VCALENDAR
VERSION:2.0
PRODID:-//SRIP Tovarne Prihodnosti - ECPv6.6.0.1//NONSGML v1.0//EN
CALSCALE:GREGORIAN
METHOD:PUBLISH
X-ORIGINAL-URL:https://ctop.ijs.si
X-WR-CALDESC:Events for SRIP Tovarne Prihodnosti
REFRESH-INTERVAL;VALUE=DURATION:PT1H
X-Robots-Tag:noindex
X-PUBLISHED-TTL:PT1H
BEGIN:VTIMEZONE
TZID:Europe/Ljubljana
BEGIN:DAYLIGHT
TZOFFSETFROM:+0100
TZOFFSETTO:+0200
TZNAME:CEST
DTSTART:20250330T010000
END:DAYLIGHT
BEGIN:STANDARD
TZOFFSETFROM:+0200
TZOFFSETTO:+0100
TZNAME:CET
DTSTART:20251026T010000
END:STANDARD
END:VTIMEZONE
BEGIN:VEVENT
DTSTART;VALUE=DATE:20250212
DTEND;VALUE=DATE:20250214
DTSTAMP:20260419T165557
CREATED:20250122T183958Z
LAST-MODIFIED:20250122T183958Z
UID:15568-1739318400-1739491199@ctop.ijs.si
SUMMARY:Strokovna ekskurzija v Nemčijo na temo RETHINK PRODUCTION: Od materiala do realizacije s 3D tiskom
DESCRIPTION:V okviru strateško inovacijskega partnerstva smo se povezali SRIP Tovarne prihodnosti in SRIP MATPRO\, ki delujemo pod okriljem Gospodarske zbornice Slovenija\, da skupaj organiziramo strokovno ekskurzijo v Nemčijo. Ta bo potekala 12. in 13. februarja 2025 na temo RETHINK PRODUCTION: Od materiala do realizacije s 3D tiskom. \nObiskali bomo:\n\nPodjetje Voxeljet AG\, ki je s sedežem v Augsburgu na Bavarskem vodilni proizvajalec industrijskih 3D tiskalnikov. Znan je po naprednih rešitvah za širok spekter industrij: avtomobilsko\, letalsko\, gradbeno\, medicinsko in elektroindustrijo. Ekskluzivni obisk podjetja bo izjemna priložnost za ogled največjega tiskalnika na svetu\, vpogled v tehnologije prihodnosti in mreženje z vodilnimi strokovnjaki s področja 3D tiska.\n\nKomu je ekskurzija namenjena:\n\nProizvajalcem in vodjem proizvodnje\, ki želijo izboljšati ali nadgraditi obstoječe proizvodne procese z integracijo naprednih 3D tehnologij ter raziskati možnosti serijske proizvodnje z uporabo 3D tiskanja.\nRazvojnim inženirjem ter strokovnjakom za raziskave in razvoj\, ki iščejo inovativne rešitve za hitro izdelavo prototipov\, optimizacijo materialov ter ustvarjanje kompleksnih in lahkih komponent z uporabo peska\, plastičnih polimerov ali keramike.\nStrokovnjakom za digitalizacijo in pametne tovarne\, ki se ukvarjajo z implementacijo industrije 4.0 ter želijo razumeti\, kako vključiti 3D tiskanje in aditivne proizvodne tehnologije v pametne in trajnostne proizvodne procese.\nPodjetjem\, ki se ukvarjajo s trajnostnim razvojem in eco-designom\, saj se bodo na seminarju spoznali z možnostmi uporabe naprednih materialov in procesov\, ki omogočajo trajnostno in okolju prijazno proizvodnjo.\n\nEkskurzija bo udeležencem omogočila vpogled v celoten portfolio materialov in procesov\, vključno s peskom\, plastičnimi polimeri in keramiko\, ter demonstracijo 3D tiskalnikov za hitro izdelavo prototipov in serijsko proizvodnjo\, s čimer bodo lahko optimizirali svoje procese in izdelke. \nPrijave zbiramo do torka\, 28. 1. 2025 preko elektronske prijavnice. \nDodatne informacije>>
URL:https://ctop.ijs.si/dogodek/strokovna-ekskurzija-v-nemcijo-na-temo-rethink-production-od-materiala-do-realizacije-s-3d-tiskom/
CATEGORIES:Predstavitveni dogodek
ATTACH;FMTTYPE=image/png:https://ctop.ijs.si/wp-content/uploads/2025/01/Ekskurzija20v20Nemcijo_zadnja1.png
END:VEVENT
END:VCALENDAR