BEGIN:VCALENDAR
VERSION:2.0
PRODID:-//SRIP Tovarne Prihodnosti - ECPv6.6.0.1//NONSGML v1.0//EN
CALSCALE:GREGORIAN
METHOD:PUBLISH
X-WR-CALNAME:SRIP Tovarne Prihodnosti
X-ORIGINAL-URL:https://ctop.ijs.si
X-WR-CALDESC:Events for SRIP Tovarne Prihodnosti
REFRESH-INTERVAL;VALUE=DURATION:PT1H
X-Robots-Tag:noindex
X-PUBLISHED-TTL:PT1H
BEGIN:VTIMEZONE
TZID:Europe/Ljubljana
BEGIN:DAYLIGHT
TZOFFSETFROM:+0100
TZOFFSETTO:+0200
TZNAME:CEST
DTSTART:20260329T010000
END:DAYLIGHT
BEGIN:STANDARD
TZOFFSETFROM:+0200
TZOFFSETTO:+0100
TZNAME:CET
DTSTART:20261025T010000
END:STANDARD
END:VTIMEZONE
BEGIN:VEVENT
DTSTART;VALUE=DATE:20260101
DTEND;VALUE=DATE:20270101
DTSTAMP:20260421T185655
CREATED:20251224T102851Z
LAST-MODIFIED:20251224T103140Z
UID:16726-1767225600-1798761599@ctop.ijs.si
SUMMARY:Program SIQ izobraževanj 2026
DESCRIPTION:Slovenski institut za kakovost in meroslovje nudi aktualna znanja\, izmenjavo izkušenj in strokovno podporo pri iskanju praktičnih rešitev iz delovnega okolja njihovih udeležencev. Z uveljavljenimi predavatelji ter mednarodnim povezovanjem ostajajo vodilni na področjih kakovosti in odličnosti. \nVljudno vas vabimo k udeležbi na spodaj navedenih usposabljanjih\, ki bodo potekala v januarju\, februarju in marcu 2026. \nZa vsa izobraževanja velja popust za člane/nečlane: \n\nčlani\, ki so imetniki SIQ certifikata 15% popust na kotizacijo\,\nčlani\, ki niso imetniki SIQ certifikata 5% popust na kotizacijo\,\n\nPopusti\, odobreni s strani SIQ\, se med seboj ne seštevajo. Popusti veljajo le za izobraževanja\, ki trajajo vsaj 7 pedagoških ur. \nker verjamemo\, da si boste v vaši organizaciji tudi v novem letu prizadevali k razvoju kompetenc vaših zaposlenih\, smo že pripravili program izobraževanj za leto 2026.
URL:https://ctop.ijs.si/dogodek/program-siq-izobrazevanj-2026/
ATTACH;FMTTYPE=image/jpeg:https://ctop.ijs.si/wp-content/uploads/2025/10/siq1.jpg
END:VEVENT
BEGIN:VEVENT
DTSTART;TZID=Europe/Ljubljana:20260401T080000
DTEND;TZID=Europe/Ljubljana:20260630T170000
DTSTAMP:20260421T185655
CREATED:20260330T102446Z
LAST-MODIFIED:20260330T104400Z
UID:17101-1775030400-1782838800@ctop.ijs.si
SUMMARY:Program izobraževanj SIQ
DESCRIPTION:Slovenski institut za kakovost in meroslovje nudi aktualna znanja\, izmenjavo izkušenj in strokovno podporo pri iskanju praktičnih rešitev iz delovnega okolja njihovih udeležencev. Z uveljavljenimi predavatelji ter mednarodnim povezovanjem ostajajo vodilni na področjih kakovosti in odličnosti. \nVljudno vas vabimo k udeležbi na spodaj navedenih usposabljanjih\, ki bodo potekala v aprilu\, maju in juniju 2026. \nZa vsa izobraževanja velja popust za člane/nečlane: \n\nčlani\, ki so imetniki SIQ certifikata 15% popust na kotizacijo\,\nčlani\, ki niso imetniki SIQ certifikata 5% popust na kotizacijo\,\n\nPopusti\, odobreni s strani SIQ\, se med seboj ne seštevajo. Popusti veljajo le za izobraževanja\, ki trajajo vsaj 7 pedagoških ur. \nUMETNA INTELIGENCA \n\n\n\nPraktični trening uporabe orodij umetne inteligence (UI) za pravnike v organizacijah\n16. 04. 2026 \n(1 dan)\n\n\nTečaj za notranje presojevalce sistema upravljanja umetne inteligence po standardu ISO/IEC 42001:2023\n13. – 14. 05. 2026 (2 dni)\n\n\nUporaba umetne inteligence (UI) ChatGPT v podjetju za učinkovitejše delo | Začetna delavnica\n22. 05. 2026 \n(1 dan)\n\n\n\n  \nVAROVANJE INFORMACIJ \n\n\n\nProcesni pristop in procesi sistema za upravljanje informacijske varnosti (SUIV)\n01. 04. 2026 \n(1 dan)\n\n\nUpravljanje incidentov informacijske varnosti (Incident Management)\n07. – 08. 04. 2026 (2 dni)\n\n\nUsposabljanje za vodje skladnosti po standardu EN 18031-1:2024\n13. – 15. 04. 2026 (3 dni)\n\n\nUpravljanje kontinuitete poslovanja (Business Continuity)\n09. – 10. 04. 2026 (2 dni)\n\n\nIdentificiranje in ocenjevanje tveganj informacijske varnosti\n10. 04. 2026 \n(1 dan)\n\n\nOkrevanje po katastrofi (Disaster Recovery)\n16. – 17. 04. 2026 (2 dni)\n\n\nKoordinator kontrol informacijske varnosti | ISMS Controls Coordinator\n11. – 12. 5. 2026 (2 dni)\n\n\nTečaj za notranje presojevalce sistema upravljanja informacijske varnosti ISO/IEC 27001:2022\n08. – 09. 06. 2026 (2 dni)\n\n\n\n  \nINTENZIVNA USPOSABLJANJA \n\n\n\nSkrbnik za upravljanje tveganj informacijske varnosti | Information Security Risk Manager\n01.– 23. 04. 2026 (3 dni)\n\n\nSpecialistični integrirani program upravljanja incidentov informacijske varnosti\, neprekinjenosti poslovanja in okrevanja po katastrofi | Incident Manager\n07. – 17. 04. 2026 (6 dni)\n\n\nTečaj za notranje presojevalce s treningom tehnik in veščin za učinkovito presojanje informacijske varnosti ISO/IEC 27001:2022\n13. – 20. 04. 2026 (3 dni)\n\n\nStrokovnjak za digitalno preobrazbo | Digital Transformation Officer\n04. – 07. 05. 2026 (5 dni)\n\n\nISO/IEC 27005 odgovorna oseba za obvladovanje tveganj | ISO/IEC 27005 Lead Risk Manager\n18. – 21. 05. 2026 (5 dni)\n\n\nUsposabljanje za managerje sistema upravljanja informacijske varnosti ISO/IEC 27001:2022 | Information Security Manager – ISM\n18. – 21. 05. 2026 (4 dni)\n\n\nAkademija informacijske varnosti v civilnem letalstvu – PART-IS Manager\n1. – 24. 06. 2026 (8 dni)\n\n\nVodja informacijske varnosti | Chief Information Security Officer (CISO)\n01. – 04. 06. 2026 (5 dni)\n\n\nTečaj za notranje presojevalce s treningom tehnik in veščin za učinkovito presojanje informacijske varnosti ISO/IEC 27001:2022\n08. – 15. 06. 2026 (3 dni)\n\n\nVodja kibernetske varnosti | Lead Cybersecurity Manager\n15. – 18. 06. 2026 (5 dni)\n\n\n\n  \n  \nIndividualna izobraževanja: Izobraževanja iz ponudbe izvedemo po meri vaše organizacije na naši ali vaši lokaciji\, v spletni ali hibridni obliki.  \nPošljite povpraševanje za zaključene skupine>>
URL:https://ctop.ijs.si/dogodek/program-izobrazevanj-siq/
ATTACH;FMTTYPE=image/webp:https://ctop.ijs.si/wp-content/uploads/2026/03/program_izobrazevanj_siq1.webp
END:VEVENT
BEGIN:VEVENT
DTSTART;TZID=Europe/Ljubljana:20260528T083000
DTEND;TZID=Europe/Ljubljana:20260528T140000
DTSTAMP:20260421T185655
CREATED:20260413T091734Z
LAST-MODIFIED:20260421T105548Z
UID:17107-1779957000-1779976800@ctop.ijs.si
SUMMARY:Avtonomno podjetje prihodnosti: nova generacija procesov z umetno inteligenco
DESCRIPTION:SRIP TOP in Process Space d.o.o. vas vabita na dogodek posvečen prihodnosti podjetij\, kjer umetna inteligenca\, podatki in napredna avtomatizacija spreminjajo način dela\, odločanja in ustvarjanja vrednosti. \nDatum: 28. maj 2026\nUra: 9.00 (registracija ob 8:30)\nLokacija: Institut “Jožef Stefa”\, Jamova 39\, Ljubljana – Velika predavalnica\n  \nOdprli bomo vprašanje\, kako se podjetja premikajo od digitalizacije posameznih funkcij k bolj avtonomnim\, povezanim in odzivnim procesom. \nV ospredju bodo konkretni primeri iz prakse\, ki bodo pokazali\, kako nove tehnologije že danes preoblikujejo proizvodnjo\, razvoj\, logistiko\, skladišče in druge ključne poslovne funkcije.\nDogodek bo ponudil vpoglede zanimivih sogovornikov iz gospodarstva\, raziskovalnega okolja in tehnološke prakse.\nSkupaj bomo osvetlili priložnosti\, ki jih prinaša nova generacija procesov\, ter izzive\, ki jih morajo pri tem nasloviti vodstva podjetij. \nSrečanje je namenjeno lastnikom družb\, direktorjem ter vodjem proizvodnje\, razvoja\, logistike\, skladišča in drugih ključnih oddelkov. To bo priložnost za odločevalce\, ki želijo razumeti\, kam gre industrija in kako pravočasno prepoznati poslovne učinke umetne inteligence. \nDogodek bo potekal na Institutu Jožef Stefan\, v okolju\, ki simbolno povezuje znanje\, tehnologijo in razvojne preboje. \nPoleg vsebinsko bogatega programa bomo omogočili tudi možnost druženja z namenom izmenjave izkušenj in vzpostavitve novih poslovnih povezav. \nRezervirajte si datum že danes – čaka vas navdihujoč dogodek z relevantno vsebino\, odličnimi govorniki in kakovostnim mreženjem. \n  \nProgram bo objavljen v kratkem. \nPRIJAVA >>\n  \nParkiranje: parkiranje je možno le na označenih parkirnih mestih MOL v bližini IJS (priloga)\, zato priporočamo prihod z javnim transportom. \n 
URL:https://ctop.ijs.si/dogodek/avtonomno-podjetje-prihodnosti-nova-generacija-procesov-z-umetno-inteligenco/
LOCATION:Institut “Jožef Stefan”\, Jamova cesta 39\, Ljubljana\, 1000
ATTACH;FMTTYPE=image/jpeg:https://ctop.ijs.si/wp-content/uploads/2026/04/Posnetek-zaslona-2026-04-14-105452.jpg
END:VEVENT
BEGIN:VEVENT
DTSTART;TZID=Europe/Ljubljana:20260917T080000
DTEND;TZID=Europe/Ljubljana:20260919T170000
DTSTAMP:20260421T185655
CREATED:20260302T114415Z
LAST-MODIFIED:20260302T115242Z
UID:16944-1789632000-1789837200@ctop.ijs.si
SUMMARY:Konferenca kako lahko raziskave in inovacije krepijo industrijo v Evropi
DESCRIPTION:Evropski inštitut za inovacije in tehnologije (EIT) in Evropsko raziskovalno združenje za tovarne prihodnosti (EFFRA) vabita na Evropsko konferenco o proizvodnji (European Manufacturing Conference)\, ki bo v Bruslju 16. in 17. septembra. Tema konference bo »Nova globalna ureditev: zagotavljanje vodilnega položaja Evrope v industriji«. Udeleženci bodo razpravljali\, kako lahko raziskave\, razvoj in inovacije (R&I) okrepijo položaj industrije v Evropi\, da bom postala vodilna v svetu. \nOrganizatorji so v program uvrstili teme\, ki so strateško pomembne za evropski proizvodni ekosistem. Med njimi so: konkurenca na področju industrije in trgovine; naslednji val prelomnih tehnologij in vloga raziskav in razvoja; privabljanje in razvoj talentov; naložbe in strategije scale-up; krožnost kot konkurenčna prednost za industrijo. \nS plenarnimi zasedanji\, okroglimi mizami in priložnostmi za mreženje je konferenca predvidena kot platforma za izmenjavo mnenj\, delitev najboljših praks in okrepitev sodelovanja med zainteresiranimi stranmi iz industrije\, raziskovalne sfere in politike. \nSpletna stran konference>>
URL:https://ctop.ijs.si/dogodek/konferenca-kako-lahko-raziskave-in-inovacije-krepijo-industrijo-v-evropi/
LOCATION:Bruselj
ATTACH;FMTTYPE=image/png:https://ctop.ijs.si/wp-content/uploads/2026/03/efra.png
END:VEVENT
BEGIN:VEVENT
DTSTART;TZID=Europe/Ljubljana:20261005T080000
DTEND;TZID=Europe/Ljubljana:20261005T170000
DTSTAMP:20260421T185655
CREATED:20251224T100419Z
LAST-MODIFIED:20251224T101130Z
UID:16717-1791187200-1791219600@ctop.ijs.si
SUMMARY:ERAT – European Robotics & Automation Talks - SAVE THE DATE
DESCRIPTION:Organizaciji AT Styria in GMAR vabita k udeležbi na 5. izvedbi dogodka ERAT – European Robotics & Automation Talks\, ki bo potekal 5. oktobra 2026 v Gradcu . Gostujoča država dogodka bo Hrvaška\, pričakuje pa se med 160 in 180 udeležencev iz Srednje Evrope\, vključno z B2B srečanji. \nDogodek je namenjen izmenjavi znanj in izkušenj na področju industrijske avtomatizacije in servisne robotike\, s poudarkom na rešitvah za mala in srednja podjetja. Organizatorji vabijo zainteresirane\, da med 7. in 28. januarjem posredujejo predloge primerov uporabe s področij logistike\, kmetijstva\, zdravstva\, obrambe in drugih industrij. \nV letu 2026 GMAR in AT Styria napovedujeta tudi dodatne dogodke\, med njimi Industry Talks Online\, ki bo potekal v nemškem jeziku in je brezplačen. \nAT Styria \nGMAR
URL:https://ctop.ijs.si/dogodek/erat-european-robotics-automation-talks-save-the-date/
ATTACH;FMTTYPE=image/jpeg:https://ctop.ijs.si/wp-content/uploads/2025/12/erat-robotics-1536x8261-11.jpg
END:VEVENT
END:VCALENDAR