BEGIN:VCALENDAR
VERSION:2.0
PRODID:-//SRIP Tovarne Prihodnosti - ECPv6.6.0.1//NONSGML v1.0//EN
CALSCALE:GREGORIAN
METHOD:PUBLISH
X-WR-CALNAME:SRIP Tovarne Prihodnosti
X-ORIGINAL-URL:https://ctop.ijs.si
X-WR-CALDESC:Events for SRIP Tovarne Prihodnosti
REFRESH-INTERVAL;VALUE=DURATION:PT1H
X-Robots-Tag:noindex
X-PUBLISHED-TTL:PT1H
BEGIN:VTIMEZONE
TZID:Europe/Ljubljana
BEGIN:DAYLIGHT
TZOFFSETFROM:+0100
TZOFFSETTO:+0200
TZNAME:CEST
DTSTART:20250330T010000
END:DAYLIGHT
BEGIN:STANDARD
TZOFFSETFROM:+0200
TZOFFSETTO:+0100
TZNAME:CET
DTSTART:20251026T010000
END:STANDARD
BEGIN:DAYLIGHT
TZOFFSETFROM:+0100
TZOFFSETTO:+0200
TZNAME:CEST
DTSTART:20260329T010000
END:DAYLIGHT
BEGIN:STANDARD
TZOFFSETFROM:+0200
TZOFFSETTO:+0100
TZNAME:CET
DTSTART:20261025T010000
END:STANDARD
END:VTIMEZONE
BEGIN:VEVENT
DTSTART;TZID=Europe/Ljubljana:20250703T080000
DTEND;TZID=Europe/Ljubljana:20251106T170000
DTSTAMP:20260422T022123
CREATED:20250703T084634Z
LAST-MODIFIED:20250703T084634Z
UID:15977-1751529600-1762448400@ctop.ijs.si
SUMMARY:SIQ usposabljanja poletje / jesen 2025
DESCRIPTION:Slovenski institut za kakovost in meroslovje nudi aktualna znanja\, izmenjavo izkušenj in strokovno podporo pri iskanju praktičnih rešitev iz delovnega okolja njihovih udeležencev. Z uveljavljenimi predavatelji ter mednarodnim povezovanjem ostajajo vodilni na področjih kakovosti in odličnosti. \nVljudno vas vabimo k udeležbi na spodaj navedenih usposabljanjih\, ki bodo potekala v juliju\, avgustu in septembru 2025. \nZa vsa izobraževanja velja popust za člane/nečlane: \n\nčlani\, ki so imetniki SIQ certifikata 15% popust na kotizacijo\,\nčlani\, ki niso imetniki SIQ certifikata 5% popust na kotizacijo\,\n\nPopusti\, odobreni s strani SIQ\, se med seboj ne seštevajo. Popusti veljajo le za izobraževanja\, ki trajajo vsaj 7 pedagoških ur. \nZa dodatne informacije in prijavo sledite povezavam. \nAVTOMOBILSKA INDUSTRIJA \n\n\n\nNivojske presoje LPA (Layered Process Audits)\n02. 07. 2025 (1 dan)\n\n\nTečaj za notranje presojevalce sistema vodenja kakovosti v avtomobilski industriji IATF 16949:2016\n08. – 09. 07. 2025 (2 dni) \n \n\n\nOdobritev proizvodnega procesa in izdelka VDA 2 (PPA)\n10. 07. 2025 (1 dan)\n\n\nAIAG & VDA FMEA (1. izdaja\, 2019) – design FMEA\n28. 08. 2025 (1 dan)\n\n\n\n  \nPROIZVODNJA IN TEHNIČNA ZAKONODAJA \n\n\n\nVodja projektov vitkosti | Lean Manager\n25. 09. – 11. 12. 2025 (7 dni)\n\n\nKako v praksi izdelati oceno tveganja za serijski ali unikaten proizvod\n18. 09. 2025 (1 dan)\n\n\n\n  \n KAKOVOST \n\n\n\nFSC in veriga sledljivosti CoC v praksi\n01. 07. 2025 (1 dan)\n\n\nSmernice za presojanje sistemov vodenja ISO 19011:2018 v praksi\n03. 07. 2025 (1 dan)\n\n\nE-tečaj za notranje presojevalce sistema vodenja kakovosti ISO 9001:2015\n08. – 09. 07. 2025 (2 dni)\n\n\nTečaj za notranje presojevalce sistema vodenja kakovosti ISO 9001:2015 v socialnovarstvenih organizacijah\n09. – 10. 09. 2025 (2 dni) \n \n\n\n\n  \nOKOLJE \n\n\n\nE-seminar: Sistem ravnanja z okoljem ISO 14001:2015 – praktični napotki\n10. 07. 2025 (1 dan)\n\n\nTečaj za notranje presojevalce sistema ravnanja z okoljem ISO 14001:2015\n27. – 28. 08. 2025 (2 dni) \n \n\n\nKako izdelati načrt gospodarjenja z odpadki?\n03. 09. 2025 (1 dan)\n\n\nE-seminar: Praktični napotki za ravnanje z odpadki v industriji\n04. 09. 2025 (1 dan)\n\n\nKaj pričakovati na inšpekcijskem pregledu inšpektorja za okolje\n11. 09. 2025 (1 dan)\n\n\nIzračun ogljičnega odtisa izdelka\n24. 09. 2025 (1 dan)\n\n\nUsposabljanje za skrbnike sistema ravnanja z okoljem ISO 14001:2015\n29. 09. – 01. 10. 2025 (3 dni)\n\n\n\n  \nENERGIJA \n\n\n\nTečaj za notranje presojevalce sistema upravljanja z energijo ISO 50001:2018 \n \n09. – 10. 06. 2025 (2 dni) IZVEDBA ZAGOTOVLJENA\n\n\n\n  \nVARNOST IN ZDRAVJE PRI DELU \n\n\n\nTečaj za notranje presojevalce sistema vodenja varnosti in zdravja pri delu ISO 45001:2018\n02. – 03. 07. 2025 (2 dni) IZVEDBA ZAGOTOVLJENA\n\n\nUsposabljanje odgovornih oseb za varnost skladiščnih regalov (PRSES)\n21. 08. 2025 (1 dan)\n\n\nUsposabljanje za skrbnike sistema vodenja varnosti in zdravja pri delu ISO 45001:2018\n15. – 17. 09. 2025 (3 dni) \n \n\n\nUpravljanje sistema varnosti in zdravja pri delu ter varovanja okolja (HSE) v praksi organizacije\n24. – 25. 09. 2025 (2 dni) \n \n\n\n\n  \nVAROVANJE INFORMACIJ IN NEPREKINJENO POSLOVANJE \n\n\n\nTečaj za notranje presojevalce sistema vodenja kakovosti ISO 9001:2015 ter sistema upravljanja informacijske varnosti ISO/IEC 27001:2022\n01. – 03. 07. 2025 (3 dni) \n \n\n\nE-seminar: Osnove varstva osebnih podatkov – kaj morate vedeti o GDPR in ZVOP-2\n04. 07. 2025 (1 dan) \n \n\n\nUsposabljanje pooblaščene osebe za varstvo podatkov | Data Protection Officer – DPO\n08. in 09. 07. 2025 (2 dni) IZVEDBA ZAGOTOVLJENA\n\n\nE-delavnica: Varnost v finančnih institucijah – predstavitev Uredbe o digitalni odpornosti finančnega sektorja (DORA)\n10. 07. 2025 (1 dan)\n\n\nInformacijska varnost v odnosih z dobavitelji\n19. – 20. 08. 2025 (2 dni)\n\n\nVrednotenje uspešnosti ISMS\n21. – 22. 08. 2025 (2 dni)\n\n\nE-seminar: Sistem upravljanja neprekinjenega poslovanja ISO 22301:2019 za zavezance NIS2 in DORA – zakaj ga vzpostaviti in prednosti vzpostavitve\n08. 09. 2025 (1 dan)\n\n\nSpecialistični integrirani program upravljanja incidentov informacijske varnosti\, neprekinjenosti poslovanja in okrevanja po katastrofi | Incident Manager\n11. – 26. 09. 2025 (6 dni) \n \n\n\nUpravljanje incidentov informacijske varnosti (Incident Management)\n11. – 12. 09. 2025 (2 dni)\n\n\nUpravljanje informacijskih varnostnih incidentov\n15. – 16. 09. 2025 (2 dni)\n\n\nUpravljanje kontinuitete poslovanja (Business Continuity)\n18. – 19. 09. 2025 (2 dni)\n\n\nObnovitveni tečaj za managerje in vodilne presojevalce po zahtevah standardov ISO/IEC 27001:2022 in ISO/IEC 27002:2022\n22. – 23. 09. 2025 (2 dni) \n \n\n\nOkrevanje po katastrofi (Disaster Recovery)\n25. – 26. 09. 2025 (2 dni)\n\n\nUsposabljanje za managerje sistema upravljanja informacijske varnosti ISO/IEC 27001:2022 | Information security manager\n29. 09. – 02. 10. 2025 (4 dni)\n\n\n\n  \nUMETNA INTELIGENCA | AI \n\n\n\nMicrosoft Copilot v praksi: Kako z umetno inteligenco povečamo produktivnost v Microsoft Wordu\, Excelu\, PowerPointu\, Teamsih in Outlooku\n29. 08. 2025 (1 dan) \n \n\n\nUporaba umetne inteligence (UI) ChatGPT v podjetju za učinkovitejše delo | Začetna delavnica\n09. 09. 2025 (1 dan) \n \n\n\nUporaba orodij umetne inteligence (UI) za kadrovske strokovnjake\n17. 09. 2025 (1 dan)\n\n\n\n  \nINTENZIVNA USPOSABLJANJA IN ŠOLE \n\n\n\nVodja projektov vitkosti | Lean Manager\n25. 09. – 11. 12. 2025 (7 dni)\n\n\nSpecialistični integrirani program upravljanja incidentov informacijske varnosti\, neprekinjenosti poslovanja in okrevanja po katastrofi | Incident Manager\n11. – 26. 09. 2025 (6 dni) \n \n\n\nStrokovnjak za trajnostno upravljanje | Sustainability Management Expert \n \n30. 09. – 06. 11. 2025 (6 dni)\n\n\n\n  \n  \nCelotna ponudba izobraževalnih programov SIQ>> \n  \nIndividualna izobraževanja \nIzobraževanja iz ponudbe izvedemo po meri vaše organizacije na naši ali vaši lokaciji\, v spletni ali hibridni obliki.  \nPošljite povpraševanje za zaključene skupine>>
URL:https://ctop.ijs.si/dogodek/siq-usposabljanja-poletje-jesen-2025/
ATTACH;FMTTYPE=image/jpeg:https://ctop.ijs.si/wp-content/uploads/2025/07/izo_linkedin1.jpg
END:VEVENT
BEGIN:VEVENT
DTSTART;VALUE=DATE:20251013
DTEND;VALUE=DATE:20251018
DTSTAMP:20260422T022123
CREATED:20250122T190729Z
LAST-MODIFIED:20250122T190729Z
UID:15575-1760313600-1760745599@ctop.ijs.si
SUMMARY:Skupinska predstavitev slovenskega gospodarstva na sejmu GITEX GLOBAL (Dubaj\, Združeni arabski emirati)
DESCRIPTION:Javna agencija Republike Slovenije za spodbujanje podjetništva\, internacionalizacije\, tujih investicij in tehnologije – SPIRIT Slovenija organizira skupinsko predstavitev slovenskega gospodarstva na sejmu GITEX GLOBAL ki bo potekal od 13. do 17. oktobra 2025 v Dubaju\, Združeni Arabski Emirati. \nSejem GITEX GLOBAL je prepoznan kot vodilni dogodek na svetu za predstavitev izdelkov in storitev v informacijsko-telekomunikacijskem sektorju (IKT). \nVeč informacij o sejmu je na voljo na spletni strani: www.gitex.com. \nS tem povabilom vabimo vsa zainteresirana podjetja\, da se predstavijo na skupnem razstavnem prostoru\, ki ga v okviru omenjenega sejma zagotavlja SPIRIT Slovenija\, javna agencija. \nSPIRIT Slovenija\, javna agencija bo v okviru aktivnosti za skupinsko predstavitev na sejmu GITEX GLOBAL: \n\nizvedla organizacijo sejemskega dogodka in koordinacijo aktivnosti z udeleženci\,\nposkrbela za pozicioniranje krovne blagovne znamke Slovenia Green\, Creative\, Smart.\nnamenila finančna sredstva v predvideni višini 120.000\,00 EUR za kritje stroškov najema neopremljenega razstavnega prostora\, tehničnih priključkov za potrebe delovanja skupinske stojnice in vpis razstavljavcev v sejemski katalog.\n\nPodjetja\, ki se bodo predstavila v okviru skupinske predstavitve na sejmu GITEX GLOBAL\, krijejo stroške: \n\npostavitve razstavnega prostora\,\nprevoza eksponatov in ostale stroške.\n\nKončno razporeditev podjetij na skupnem razstavnem prostoru bo pripravila oziroma potrdila SPIRIT Slovenija\, javna agencija. Skupinska stojnica bo konstrukcijsko in grafično poenotena. Postavitev skupinske stojnice bo izvedel skupen izvajalec postavitve\, ki ga izberejo podjetja. \nPrijave bomo sprejemali do zapolnitve razpoložljivega razstavnega prostora oziroma do spodaj navedenega roka za elektronsko prijavo. \nRok za prijavo udeležbe na skupinski predstavitvi na sejmu GITEX GLOBAL 2025 podaljšujemo vključno petka\, 31. januarja 2025. \nDodatne informacije in prijave>>
URL:https://ctop.ijs.si/dogodek/skupinska-predstavitev-slovenskega-gospodarstva-na-sejmu-gitex-global-dubaj-zdruzeni-arabski-emirati/
ATTACH;FMTTYPE=image/jpeg:https://ctop.ijs.si/wp-content/uploads/2025/01/GITEX20GLOBAL20202220-20GITEX20GLOBAL20202220takes20over20Dubai20with20record20capacity20accelerating20worlds20digital20economy1-e1737572838926.jpg
END:VEVENT
BEGIN:VEVENT
DTSTART;TZID=Europe/Ljubljana:20251015T090000
DTEND;TZID=Europe/Ljubljana:20251015T143000
DTSTAMP:20260422T022123
CREATED:20251003T100450Z
LAST-MODIFIED:20251003T120252Z
UID:16305-1760518800-1760538600@ctop.ijs.si
SUMMARY:Izzivi in priložnosti slovenske robotike: Robotika in umetna inteligenca za  napredno manipulacijo
DESCRIPTION:Vabimo vas na dogodek v organizaciji SRIP Tovarne prihodnosti\, Združenja robotike Slovenije in projekta ROMADIC. \nDogodek z naslovom \nIzzivi in priložnosti slovenske robotike: Robotika in umetna inteligenca za napredno manipulacijo\, \nbo potekal v sredo\, 15.10.2025 od 9:00 do 14:30 v hotelu Four Points by Sheraton Mons. \nRobotika je eno najhitreje razvijajočih se področij sodobne tehnologije in ključen dejavnik preobrazbe industrije ter družbe. Slovenska raziskovalna in industrijska skupnost ima na tem področju tako v svetu kot v Evropi vidno vlogo in s tem izjemen potencial – od vrhunskih raziskav do uspešnih primerov industrijske uporabe. \nNa dogodku bomo predstavili aktualne trende\, razvojne izzive In primere dobre prakse robotske integracije. V okviru projekta ROMANDIC bomo predstavili delo in soočili poglede na eni strani raziskovalcev na področju robotike in na drugi strani predstavnikov industrije\, ki deluje z deformabilnimi objekti. \nDogodek bosta vodila in povezovala predsednik Združenja robotike Slovenije\, prof. dr. Matjaž Mihelj in koordinator evropskega projekta ROMANDIC\, prof. dr. Andrej Gams. \n  \nPROGRAM \n\n\n\n8:30\nRegistracija in kava\n\n\n9:00\nOtvoritev \nProf. dr. Matjaž Mihelj\, predsednik Združenja robotike Slovenije \nProf. dr. Andrej Gams\, koordinator evropskega projekta ROMANDIC\n\n\n9:10\nDI Ulrich Trog\, Joanneum research  \nShaping the Future of Production: Robotics\, Materials and AI\n\n\n9:40 \n \nProf. dr. Aleš Ude\, Institut “Jožef Stefan” \nIzzivi pri uporabi avtonomnih robotskih sistemov za avtomatizacijo reciklaže elektronskih naprav\n\n\n10:00\nProf. dr. Danijel Skočaj\, Fakulteta za računalništvo in informatiko\, UL  \nRačunalniški vid kot ključna podpora robotiki: od manipulacije do avtonomne navigacije\n\n\n10:20\nProf. dr. Sašo Džeroski\, Institut “Jožef Stefan” \nSlovenska tovarna umetne inteligence – SLAIF\n\n\n10:40\nProf. dr. Andrej Gams\, Institut “Jožef Stefan” \nRobotsko rokovanje z deformabilnimi objekti\n\n\n11:00\nOdmor za kavo\n\n\n11:30\nKnauf Insulation\, d.o.o.\n\n\n11:50\nTronog\, vizualne rešitve\, d.o.o.\n\n\n12:10\nDr. Mateja Kramer in Nejc Plaznik\, Novartis d.o.o. \nVizija in priložnosti na področju avtomatizacije v Tehničnem R&D v Novartisu\n\n\n12:30\nOliver Topić\, PS\, d.o.o.\, Logatec   \nRobotizacija kovanja\n\n\n12:50 \n \ndr. Rok Pahič\, Moderne tehnologije d.o.o. \nRobotsko pobiranje razsutih objektov\n\n\n13:10\nMreženje ob kosilu\n\n\n14:30\nZaključek\n\n\n\n  \nDogodek je brezplačnen\, potekal bo v slovenskem jeziku z izjemo uvodnega predavanja.   \n  \nVABILO  >>\n  \nPRIJAVA NA DOGODEK >>
URL:https://ctop.ijs.si/dogodek/izzivi-in-priloznosti-slovenske-robotike-robotska-in-umetna-inteligenca-za-napredno-manipulacijo/
LOCATION:Four Points by Sheraton Ljubljana Mons
ATTACH;FMTTYPE=image/png:https://ctop.ijs.si/wp-content/uploads/2025/10/Kopija-izdelka-Izzivi-slovenske-robotike-3.png
END:VEVENT
BEGIN:VEVENT
DTSTART;TZID=Europe/Ljubljana:20251021T080000
DTEND;TZID=Europe/Ljubljana:20251021T170000
DTSTAMP:20260422T022123
CREATED:20251021T100938Z
LAST-MODIFIED:20251119T184728Z
UID:16366-1761033600-1761066000@ctop.ijs.si
SUMMARY:SRIP Tovarne prihodnosti na konferenci ERAT 2025!
DESCRIPTION:Tudi letos bo konferenca ERAT 2025 povezala strokovnjake\, raziskovalce in industrijo z vizijo prihodnosti proizvodnje\, avtomatizacije in robotike. Dogodek prinaša vpogled v najnovejše trende pametne industrije in inovacij\, ki oblikujejo evropski industrijski ekosistem. \n📅 Kdaj: 13.–14. november 2025\n📍 Kje: Graz\, Avstrija\n🔗 Več o dogodku: https://www.erat.at/ \nV sklopu konference bo sodeloval tudi\n🎙️ doc. dr. Igor Kovač\, direktor SRIP Tovarne prihodnosti\, Institut “Jožef Stefan”\, ki bo moderiral razpravo na temo:\n💡 Shaping the Future with Slovenian Robotics\nDogodek bo poudaril pomembno vlogo slovenske robotike pri razvoju industrije prihodnosti. \n  \n\n@ GMARobotics and @ ARGE Plattform Automatisierungstechnik Steiermark \n  \nVEČ >>
URL:https://ctop.ijs.si/dogodek/srip-tovarne-prihodnosti-na-konferenci-erat-2025/
ATTACH;FMTTYPE=image/jpeg:https://ctop.ijs.si/wp-content/uploads/2025/10/Posnetek-zaslona-2025-10-21-120835.jpg
END:VEVENT
BEGIN:VEVENT
DTSTART;TZID=Europe/Ljubljana:20251021T080000
DTEND;TZID=Europe/Ljubljana:20260212T170000
DTSTAMP:20260422T022123
CREATED:20251021T092759Z
LAST-MODIFIED:20251119T184716Z
UID:16346-1761033600-1770915600@ctop.ijs.si
SUMMARY:SIQ usposabljanja jesen 2025 / zima 2026
DESCRIPTION:Slovenski institut za kakovost in meroslovje nudi aktualna znanja\, izmenjavo izkušenj in strokovno podporo pri iskanju praktičnih rešitev iz delovnega okolja njihovih udeležencev. Z uveljavljenimi predavatelji ter mednarodnim povezovanjem ostajajo vodilni na področjih kakovosti in odličnosti. \nVljudno vas vabimo k udeležbi na spodaj navedenih usposabljanjih\, ki bodo potekala v juliju\, avgustu in septembru 2025. \nZa vsa izobraževanja velja popust za člane/nečlane: \n\nčlani\, ki so imetniki SIQ certifikata 15% popust na kotizacijo\,\nčlani\, ki niso imetniki SIQ certifikata 5% popust na kotizacijo\,\n\nPopusti\, odobreni s strani SIQ\, se med seboj ne seštevajo. Popusti veljajo le za izobraževanja\, ki trajajo vsaj 7 pedagoških ur. \nZa dodatne informacije in prijavo sledite povezavam: \n  \n5. november 2025    Priprava medicinskega laboratorija na akreditacijo SIST EN ISO 15189:2023 \n17. in 18. november 2025 Tečaj za notranje presojevalce sistema vodenja kakovosti v laboratoriju ISO/IEC 17025:2017  \n  \n20. januar 2026 Integriteta podatkov v laboratorijski dejavnosti | NOVOST \n4. februar 2026 Obvladovanje merilne opreme \n5. februar 2026 Skladnost informacijske podpore in zagotavljanje neprekinjenega poslovanja v laboratorijih po zahtevah ISO/IEC 17025:2015 in ISO/IEC 15189:2022 \n12. februar 2026 Validacija računalniških sistemov v laboratorijski dejavnosti | NOVOST  \n  \n  \nCelotna ponudba izobraževalnih programov SIQ>> \n  \nIndividualna izobraževanja \nIzobraževanja iz ponudbe izvedemo po meri vaše organizacije na naši ali vaši lokaciji\, v spletni ali hibridni obliki.  \nPošljite povpraševanje za zaključene skupine>>
URL:https://ctop.ijs.si/dogodek/siq-usposabljanja-jesen-2025-zima-2026/
ATTACH;FMTTYPE=image/jpeg:https://ctop.ijs.si/wp-content/uploads/2025/10/siq1.jpg
END:VEVENT
END:VCALENDAR